BEGIN:VCALENDAR
VERSION:2.0
PRODID:-//Fondation Odette Roy Fombrun - ECPv6.15.20//NONSGML v1.0//EN
CALSCALE:GREGORIAN
METHOD:PUBLISH
X-ORIGINAL-URL:https://forf.v3w.net
X-WR-CALDESC:Évènements pour Fondation Odette Roy Fombrun
REFRESH-INTERVAL;VALUE=DURATION:PT1H
X-Robots-Tag:noindex
X-PUBLISHED-TTL:PT1H
BEGIN:VTIMEZONE
TZID:America/Halifax
BEGIN:DAYLIGHT
TZOFFSETFROM:-0400
TZOFFSETTO:-0300
TZNAME:ADT
DTSTART:20250309T060000
END:DAYLIGHT
BEGIN:STANDARD
TZOFFSETFROM:-0300
TZOFFSETTO:-0400
TZNAME:AST
DTSTART:20251102T050000
END:STANDARD
BEGIN:DAYLIGHT
TZOFFSETFROM:-0400
TZOFFSETTO:-0300
TZNAME:ADT
DTSTART:20260308T060000
END:DAYLIGHT
BEGIN:STANDARD
TZOFFSETFROM:-0300
TZOFFSETTO:-0400
TZNAME:AST
DTSTART:20261101T050000
END:STANDARD
BEGIN:DAYLIGHT
TZOFFSETFROM:-0400
TZOFFSETTO:-0300
TZNAME:ADT
DTSTART:20270314T060000
END:DAYLIGHT
BEGIN:STANDARD
TZOFFSETFROM:-0300
TZOFFSETTO:-0400
TZNAME:AST
DTSTART:20271107T050000
END:STANDARD
END:VTIMEZONE
BEGIN:VEVENT
DTSTART;TZID=America/Halifax:20260514T100000
DTEND;TZID=America/Halifax:20260514T130000
DTSTAMP:20260421T063918
CREATED:20260327T171919Z
LAST-MODIFIED:20260331T201738Z
UID:47378-1778752800-1778763600@forf.v3w.net
SUMMARY:Expo Drapeau + conférence « Les trésors d’Haïti » (patrimoine naturel et historique)
DESCRIPTION:
URL:https://forf.v3w.net/event/expo-drapeau-conference-les-tresors-dhaiti-patrimoine-naturel-et-historique/
END:VEVENT
BEGIN:VEVENT
DTSTART;TZID=America/Halifax:20260515T090000
DTEND;TZID=America/Halifax:20260515T140000
DTSTAMP:20260421T063918
CREATED:20260331T202220Z
LAST-MODIFIED:20260331T202220Z
UID:47612-1778835600-1778853600@forf.v3w.net
SUMMARY:Salle "Espas Konbit FORF" réservée
DESCRIPTION:
URL:https://forf.v3w.net/event/salle-espas-konbit-forf-reservee-2/
END:VEVENT
BEGIN:VEVENT
DTSTART;TZID=America/Halifax:20260522T110000
DTEND;TZID=America/Halifax:20260522T130000
DTSTAMP:20260421T063918
CREATED:20260330T172403Z
LAST-MODIFIED:20260330T172403Z
UID:47551-1779447600-1779454800@forf.v3w.net
SUMMARY:Formations des enseignants - Formateur Melodie Benjamin
DESCRIPTION:
URL:https://forf.v3w.net/event/formations-des-enseignants-formateur-melodie-benjamin/
END:VEVENT
BEGIN:VEVENT
DTSTART;TZID=America/Halifax:20260529T110000
DTEND;TZID=America/Halifax:20260529T130000
DTSTAMP:20260421T063918
CREATED:20260330T172532Z
LAST-MODIFIED:20260330T172532Z
UID:47557-1780052400-1780059600@forf.v3w.net
SUMMARY:Formations des enseignants - Formateur Melodie Benjamin
DESCRIPTION:
URL:https://forf.v3w.net/event/formations-des-enseignants-formateur-melodie-benjamin-3/
END:VEVENT
END:VCALENDAR